BEGIN:VCALENDAR
VERSION:2.0
PRODID:-//Wise Counsel - ECPv6.8.1//NONSGML v1.0//EN
CALSCALE:GREGORIAN
METHOD:PUBLISH
X-ORIGINAL-URL:https://wisecounsel4u.com
X-WR-CALDESC:Events for Wise Counsel
REFRESH-INTERVAL;VALUE=DURATION:PT1H
X-Robots-Tag:noindex
X-PUBLISHED-TTL:PT1H
BEGIN:VTIMEZONE
TZID:UTC
BEGIN:STANDARD
TZOFFSETFROM:+0000
TZOFFSETTO:+0000
TZNAME:UTC
DTSTART:20190101T000000
END:STANDARD
END:VTIMEZONE
BEGIN:VEVENT
DTSTART;TZID=UTC:20190805T080000
DTEND;TZID=UTC:20190805T170000
DTSTAMP:20260424T035053
CREATED:20190513T114009Z
LAST-MODIFIED:20190513T114009Z
UID:931-1564992000-1565024400@wisecounsel4u.com
SUMMARY:Individual Workshop
DESCRIPTION:[vc_row][vc_column][vc_column_text]Lorem gravida nibh vel veliauctor aliquenean sollicitudin\, lorem quis bibendum auctor\, nisi elit consequat ipsutis sem nibh id elit. Duis sed odio sit amet nibh vulputate cursus a sit amet mauris. Morbi accumsan ipsum velit. Nam nec tellus a odio tincidunt auctor a ornare odio. Sed non mauris vitae erat consequat auctor eu in elit. Class aptent taciti sociosqu ad litora torquent per conubia nostra\, per inceptos himenaeos. Mauris in erat justo. Nullam ac urnamiumimus felis dapibus sit amet. Sed non neque elit. Lorem gravida nibh vel veliauctor aliquenean sollicitudin\, lorem quis auctor.[/vc_column_text][/vc_column][/vc_row]
URL:https://wisecounsel4u.com/event/individual-workshop/
LOCATION:Creative Leadership\, Cambridge\, MA 02138\, USA\, United States
CATEGORIES:Leadership
ATTACH;FMTTYPE=image/jpeg:https://wisecounsel4u.com/wp-content/uploads/2019/05/events-img-05.jpg
ORGANIZER;CN="Harvard Education":MAILTO:everlead@mikado-themes.com
END:VEVENT
BEGIN:VEVENT
DTSTART;TZID=UTC:20190809T080000
DTEND;TZID=UTC:20190809T170000
DTSTAMP:20260424T035053
CREATED:20190430T114143Z
LAST-MODIFIED:20190430T114143Z
UID:70-1565337600-1565370000@wisecounsel4u.com
SUMMARY:Creative Leadership
DESCRIPTION:[vc_row][vc_column][vc_column_text]Lorem gravida nibh vel veliauctor aliquenean sollicitudin\, lorem quis bibendum auctor\, nisi elit consequat ipsutis sem nibh id elit. Duis sed odio sit amet nibh vulputate cursus a sit amet mauris. Morbi accumsan ipsum velit. Nam nec tellus a odio tincidunt auctor a ornare odio. Sed non mauris vitae erat consequat auctor eu in elit. Class aptent taciti sociosqu ad litora torquent per conubia nostra\, per inceptos himenaeos. Mauris in erat justo. Nullam ac urnamiumimus felis dapibus sit amet. Sed non neque elit. Lorem gravida nibh vel veliauctor aliquenean sollicitudin\, lorem quis auctor.[/vc_column_text][/vc_column][/vc_row]
URL:https://wisecounsel4u.com/event/creative-leadership/
LOCATION:Creative Leadership\, Cambridge\, MA 02138\, USA\, United States
CATEGORIES:Leadership
ATTACH;FMTTYPE=image/jpeg:https://wisecounsel4u.com/wp-content/uploads/2019/04/events-img-02.jpg
ORGANIZER;CN="Harvard Education":MAILTO:everlead@mikado-themes.com
END:VEVENT
BEGIN:VEVENT
DTSTART;TZID=UTC:20190809T080000
DTEND;TZID=UTC:20190809T170000
DTSTAMP:20260424T035053
CREATED:20190513T111011Z
LAST-MODIFIED:20190513T111011Z
UID:907-1565337600-1565370000@wisecounsel4u.com
SUMMARY:Advanced Leadership
DESCRIPTION:[vc_row][vc_column][vc_column_text]Lorem gravida nibh vel veliauctor aliquenean sollicitudin\, lorem quis bibendum auctor\, nisi elit consequat ipsutis sem nibh id elit. Duis sed odio sit amet nibh vulputate cursus a sit amet mauris. Morbi accumsan ipsum velit. Nam nec tellus a odio tincidunt auctor a ornare odio. Sed non mauris vitae erat consequat auctor eu in elit. Class aptent taciti sociosqu ad litora torquent per conubia nostra\, per inceptos himenaeos. Mauris in erat justo. Nullam ac urnamiumimus felis dapibus sit amet. Sed non neque elit. Lorem gravida nibh vel veliauctor aliquenean sollicitudin\, lorem quis auctor.[/vc_column_text][/vc_column][/vc_row]
URL:https://wisecounsel4u.com/event/advanced-leadership/
LOCATION:Creative Leadership\, Cambridge\, MA 02138\, USA\, United States
CATEGORIES:Leadership
ATTACH;FMTTYPE=image/jpeg:https://wisecounsel4u.com/wp-content/uploads/2019/05/events-img-04.jpg
ORGANIZER;CN="Harvard Education":MAILTO:everlead@mikado-themes.com
END:VEVENT
BEGIN:VEVENT
DTSTART;TZID=UTC:20190819T080000
DTEND;TZID=UTC:20190819T170000
DTSTAMP:20260424T035053
CREATED:20190514T100442Z
LAST-MODIFIED:20190514T100442Z
UID:1138-1566201600-1566234000@wisecounsel4u.com
SUMMARY:Coaching technique
DESCRIPTION:[vc_row][vc_column][vc_column_text]Lorem gravida nibh vel veliauctor aliquenean sollicitudin\, lorem quis bibendum auctor\, nisi elit consequat ipsutis sem nibh id elit. Duis sed odio sit amet nibh vulputate cursus a sit amet mauris. Morbi accumsan ipsum velit. Nam nec tellus a odio tincidunt auctor a ornare odio. Sed non mauris vitae erat consequat auctor eu in elit. Class aptent taciti sociosqu ad litora torquent per conubia nostra\, per inceptos himenaeos. Mauris in erat justo. Nullam ac urnamiumimus felis dapibus sit amet. Sed non neque elit. Lorem gravida nibh vel veliauctor aliquenean sollicitudin\, lorem quis auctor.[/vc_column_text][/vc_column][/vc_row]
URL:https://wisecounsel4u.com/event/coaching-technique/
LOCATION:Businesswind\, Cambridge\, MA 02138\, USA\, United States
CATEGORIES:Business
ATTACH;FMTTYPE=image/jpeg:https://wisecounsel4u.com/wp-content/uploads/2019/05/about-me-event-02.jpg
ORGANIZER;CN="Cambridge University":MAILTO:everlead@mikado-themes.com
END:VEVENT
BEGIN:VEVENT
DTSTART;TZID=UTC:20190823T080000
DTEND;TZID=UTC:20190823T170000
DTSTAMP:20260424T035053
CREATED:20190514T095624Z
LAST-MODIFIED:20190514T095624Z
UID:1127-1566547200-1566579600@wisecounsel4u.com
SUMMARY:Next investment
DESCRIPTION:[vc_row][vc_column][vc_column_text]Lorem gravida nibh vel veliauctor aliquenean sollicitudin\, lorem quis bibendum auctor\, nisi elit consequat ipsutis sem nibh id elit. Duis sed odio sit amet nibh vulputate cursus a sit amet mauris. Morbi accumsan ipsum velit. Nam nec tellus a odio tincidunt auctor a ornare odio. Sed non mauris vitae erat consequat auctor eu in elit. Class aptent taciti sociosqu ad litora torquent per conubia nostra\, per inceptos himenaeos. Mauris in erat justo. Nullam ac urnamiumimus felis dapibus sit amet. Sed non neque elit. Lorem gravida nibh vel veliauctor aliquenean sollicitudin\, lorem quis auctor.[/vc_column_text][/vc_column][/vc_row]
URL:https://wisecounsel4u.com/event/next-investment/
LOCATION:Businesswind\, Cambridge\, MA 02138\, USA\, United States
CATEGORIES:Business
ATTACH;FMTTYPE=image/jpeg:https://wisecounsel4u.com/wp-content/uploads/2019/05/about-me-event-01.jpg
ORGANIZER;CN="Cambridge University":MAILTO:everlead@mikado-themes.com
END:VEVENT
END:VCALENDAR